BEGIN:VCALENDAR
VERSION:2.0
PRODID:Passeio de Cicloturismo da Feira de S. Pedro e do Chocalho 2025
X-WR-CALNAME:Passeio de Cicloturismo da Feira de S. Pedro e do Chocalho 202
 5
X-WR-TIMEZONE:Europe/Lisbon
X-PUBLISHED-TTL:P1W
BEGIN:VTIMEZONE
TZID:Europe/Lisbon
X-LIC-LOCATION:Europe/Lisbon
END:VTIMEZONE
BEGIN:VEVENT
UID:69e75b33ac9d2
DTSTART;VALUE=DATE:20250629
SEQUENCE:0
TRANSP:OPAQUE
DTEND;VALUE=DATE:20250630
SUMMARY:Passeio de Cicloturismo da Feira de S. Pedro e do Chocalho 2025
CLASS:PUBLIC
X-MICROSOFT-CDO-ALLDAYEVENT:TRUE
DTSTAMP:20260421T111043Z
END:VEVENT
END:VCALENDAR